BEGIN:VCALENDAR
VERSION:2.0
PRODID:-//Musikkapelle Heiden - ECPv6.15.20//NONSGML v1.0//EN
CALSCALE:GREGORIAN
METHOD:PUBLISH
X-ORIGINAL-URL:https://www.mk-heiden.com
X-WR-CALDESC:Veranstaltungen für Musikkapelle Heiden
REFRESH-INTERVAL;VALUE=DURATION:PT1H
X-Robots-Tag:noindex
X-PUBLISHED-TTL:PT1H
BEGIN:VTIMEZONE
TZID:Europe/Berlin
BEGIN:DAYLIGHT
TZOFFSETFROM:+0100
TZOFFSETTO:+0200
TZNAME:CEST
DTSTART:20220327T010000
END:DAYLIGHT
BEGIN:STANDARD
TZOFFSETFROM:+0200
TZOFFSETTO:+0100
TZNAME:CET
DTSTART:20221030T010000
END:STANDARD
BEGIN:DAYLIGHT
TZOFFSETFROM:+0100
TZOFFSETTO:+0200
TZNAME:CEST
DTSTART:20230326T010000
END:DAYLIGHT
BEGIN:STANDARD
TZOFFSETFROM:+0200
TZOFFSETTO:+0100
TZNAME:CET
DTSTART:20231029T010000
END:STANDARD
BEGIN:DAYLIGHT
TZOFFSETFROM:+0100
TZOFFSETTO:+0200
TZNAME:CEST
DTSTART:20240331T010000
END:DAYLIGHT
BEGIN:STANDARD
TZOFFSETFROM:+0200
TZOFFSETTO:+0100
TZNAME:CET
DTSTART:20241027T010000
END:STANDARD
END:VTIMEZONE
BEGIN:VEVENT
DTSTART;TZID=Europe/Berlin:20230325T170000
DTEND;TZID=Europe/Berlin:20230325T200000
DTSTAMP:20260425T185715
CREATED:20221221T131542Z
LAST-MODIFIED:20230317T090935Z
UID:5846-1679763600-1679774400@www.mk-heiden.com
SUMMARY:Frühjahrskonzert "Helden durch die Zeit" (2)
DESCRIPTION:Frühjahrskonzert 2020/2023\n  \nNächster Versuch! Die Stücke waren bis aufs letzte Detail geprobt und jede Menge Karten verkauft. Doch dann\, eine Woche vorm Konzert\, machte uns Covid-19 einen Strich durch die Rechnung. Das war 2020. \nDoch wir haben immer noch Bock auf das Programm „Helden durch die Zeit“ und ihr habt noch Karten dafür! Da bleibt nur eine Möglichkeit: Das Frühjahrskonzert von 2020 muss stattfinden und das wird es. An zwei Abenden\, am 24. & 25 März 2023\, werden wir in der Stadthalle Vennehof in Borken die Helden der Heidener Geschichte in Bild und Ton würdigen\, dabei kommen auch musikalische Helden des 20. Jahrhunderts nicht zu kurz. Den Anfang wird um 17 Uhr das Jugendorchester machen\, anschließend gibt dann die Musikkapelle den Ton an. Stücke wie „Hero Music“ von David R. Holsinger oder „Keen on Queen“ von Jörg Murschinski werden umrahmt von aufwändig recherchiertem Bild- und Videomaterial\, welches die Geschichte und die Vielfalt der Gemeinde Heiden sowie ihrer Vereine würdigt. Anlass für diese Thematik war 2020 das anstehende Gemeindejubiläum\, so wollte Heiden in einem abwechslungsreichen Programm in dem Jahr seinen 1150. Jahrestag feiern. Mit unserem Konzert\, wollten wir dazu einen Beitrag leisten. Und das werden wir immer noch\, quasi ein nachträglicher Gruß zum Geburtstag! \nDa das Konzert schon längst hätte stattfinden sollen\, sind auch ein Großteil der Eintrittskarten schon verkauft. Für nahezu alle Fragen\, die die Tickets betreffen haben wir ein FAQ eingerichtet. Wir freuen uns auf zwei außergewöhnliche Konzertabende\, die Erinnerungen wecken und in Erinnerung bleiben werden. \n___________________________ \nOrt: Stadthalle Vennehof in Borken\nEinlass: 16.15Uhr\nBeginn: 17 Uhr\n___________________________
URL:https://www.mk-heiden.com/event/fruehjahrskonzert-helden-durch-die-zeit-2/
LOCATION:Vennehof Borken\, Am Vennehof 2\, Borken\, 46325
CATEGORIES:Konzert
ATTACH;FMTTYPE=image/jpeg:https://www.mk-heiden.com/wp-content/uploads/2020_FJK_Helden-scaled-e1669063471390.jpg
ORGANIZER;CN="Musikkapelle Heiden e.V.":MAILTO:info@mk-heiden.de
END:VEVENT
END:VCALENDAR