BEGIN:VCALENDAR
VERSION:2.0
PRODID:-//Musikkapelle Heiden - ECPv6.15.20//NONSGML v1.0//EN
CALSCALE:GREGORIAN
METHOD:PUBLISH
X-WR-CALNAME:Musikkapelle Heiden
X-ORIGINAL-URL:https://www.mk-heiden.com
X-WR-CALDESC:Veranstaltungen für Musikkapelle Heiden
REFRESH-INTERVAL;VALUE=DURATION:PT1H
X-Robots-Tag:noindex
X-PUBLISHED-TTL:PT1H
BEGIN:VTIMEZONE
TZID:Europe/Berlin
BEGIN:DAYLIGHT
TZOFFSETFROM:+0100
TZOFFSETTO:+0200
TZNAME:CEST
DTSTART:20220327T010000
END:DAYLIGHT
BEGIN:STANDARD
TZOFFSETFROM:+0200
TZOFFSETTO:+0100
TZNAME:CET
DTSTART:20221030T010000
END:STANDARD
BEGIN:DAYLIGHT
TZOFFSETFROM:+0100
TZOFFSETTO:+0200
TZNAME:CEST
DTSTART:20230326T010000
END:DAYLIGHT
BEGIN:STANDARD
TZOFFSETFROM:+0200
TZOFFSETTO:+0100
TZNAME:CET
DTSTART:20231029T010000
END:STANDARD
BEGIN:DAYLIGHT
TZOFFSETFROM:+0100
TZOFFSETTO:+0200
TZNAME:CEST
DTSTART:20240331T010000
END:DAYLIGHT
BEGIN:STANDARD
TZOFFSETFROM:+0200
TZOFFSETTO:+0100
TZNAME:CET
DTSTART:20241027T010000
END:STANDARD
END:VTIMEZONE
BEGIN:VEVENT
DTSTART;TZID=Europe/Berlin:20231118T163000
DTEND;TZID=Europe/Berlin:20231118T173000
DTSTAMP:20260423T135257
CREATED:20230115T103934Z
LAST-MODIFIED:20231105T153157Z
UID:5924-1700325000-1700328600@www.mk-heiden.com
SUMMARY:Kindermusical 2023 (1)
DESCRIPTION:Zirkus Kriminale – ein Gemeinschaftsprojekt der Mariengrundschule und der MKH\n  \nHat inzwischen Tradition: Im November 2023 wird es endlich wieder ein Kindermusical geben! Nachdem wir 2019 mit „Kwela Kwela“ die Savanne in die Westmünsterlandhalle gebracht haben\, wird es mit „Zirkus Kriminale“  in diesem Jahr an zwei Nachmittagen spannend und bunt zugleich. \nDie Vorbereitungen laufen schon seit Monaten – es werden Kostüme genäht\, Kulissen gebastelt und natürlich ein heiteres musikalisches Programm eingeübt. Etwa 100 Grundschulkinder proben schon fleißig ihre Gesangsparts\, 40 sind am Schauspiel beteiligt und die Musikkapelle arbeitet an den Musical-Noten. \nVeranstaltungsbeginn ist um 16.30 Uhr\, der Einlass beginnt um 16 Uhr! \n+++ AUSVERKAUFT +++ AUSVERKAUFT +++ AUSVERKAUFT +++\nTickets:\nWir freuen uns sagen zu können\, dass alle Karten verkauft sind! Es wird keine Abendkasse geben!\nBeim Bürgerbüro sind keine Tickets mehr erhältlich. \n  \nMit freundlicher Unterstützung von \n \n  \n  \n  \n  \n  \n 
URL:https://www.mk-heiden.com/event/kindermusical-2023-1/
LOCATION:Westmünsterlandhalle Heiden\, Am Sportzentrum\, Heiden\, 46359\, Deutschland
CATEGORIES:Konzert
ATTACH;FMTTYPE=image/jpeg:https://www.mk-heiden.com/wp-content/uploads/Gutschein_Zirkus_Kriminale_2023_Seite1-1.jpg
ORGANIZER;CN="Musikkapelle Heiden e.V.":MAILTO:info@mk-heiden.de
END:VEVENT
END:VCALENDAR