BEGIN:VCALENDAR
VERSION:2.0
PRODID:-//Musikkapelle Heiden - ECPv6.15.20//NONSGML v1.0//EN
CALSCALE:GREGORIAN
METHOD:PUBLISH
X-ORIGINAL-URL:https://www.mk-heiden.com
X-WR-CALDESC:Veranstaltungen für Musikkapelle Heiden
REFRESH-INTERVAL;VALUE=DURATION:PT1H
X-Robots-Tag:noindex
X-PUBLISHED-TTL:PT1H
BEGIN:VTIMEZONE
TZID:Europe/Berlin
BEGIN:DAYLIGHT
TZOFFSETFROM:+0100
TZOFFSETTO:+0200
TZNAME:CEST
DTSTART:20220327T010000
END:DAYLIGHT
BEGIN:STANDARD
TZOFFSETFROM:+0200
TZOFFSETTO:+0100
TZNAME:CET
DTSTART:20221030T010000
END:STANDARD
BEGIN:DAYLIGHT
TZOFFSETFROM:+0100
TZOFFSETTO:+0200
TZNAME:CEST
DTSTART:20230326T010000
END:DAYLIGHT
BEGIN:STANDARD
TZOFFSETFROM:+0200
TZOFFSETTO:+0100
TZNAME:CET
DTSTART:20231029T010000
END:STANDARD
BEGIN:DAYLIGHT
TZOFFSETFROM:+0100
TZOFFSETTO:+0200
TZNAME:CEST
DTSTART:20240331T010000
END:DAYLIGHT
BEGIN:STANDARD
TZOFFSETFROM:+0200
TZOFFSETTO:+0100
TZNAME:CET
DTSTART:20241027T010000
END:STANDARD
END:VTIMEZONE
BEGIN:VEVENT
DTSTART;TZID=Europe/Berlin:20230129T150000
DTEND;TZID=Europe/Berlin:20230129T180000
DTSTAMP:20260425T201527
CREATED:20221028T100424Z
LAST-MODIFIED:20221103T171647Z
UID:5621-1675004400-1675015200@www.mk-heiden.com
SUMMARY:Vorspielnachmittag 2023
DESCRIPTION:Hier spielt die Musik! \nAm 29.01.2023 zeigt unsere Jugend beim Vorspielnachmittag in der Westmünsterlandhalle was sie auf dem Kasten hat. Etwa 100 Schülerinnen und Schüler der Orchesterschule\, der Blockflötengruppe sowie der vereinseigenen Ausbildung werden ihre Fortschritte am Instrument und den Spaß an der Musik präsentieren. Alle Teile der Familie\, Freunde und Interessierte dürfen gespannt zuhören und es sich dabei in der Halle gemütlich machen\, heißen Kaffee und kalte Getränke genießen\, leckeren Kuchen naschen und frisch gebackene Waffeln verputzen. \nWer wissen möchte\, was in der musikalischen Ausbildung bei der Musikkapelle Heiden alles möglich ist\, die Jugend unterstützen und einen entspannten Nachmittag verbringen möchte\, ist herzlich eingeladen! Ausgerichtet wird der Vorspielnachmittag vom Förderverein der Musikkapelle Heiden e.V.\, es geht um 15 Uhr los und der Eintritt ist frei\, Spenden kommen unserer Jugend zu Gute.
URL:https://www.mk-heiden.com/event/vorspielnachmittag-2023/
LOCATION:Westmünsterlandhalle Heiden\, Am Sportzentrum\, Heiden\, 46359\, Deutschland
CATEGORIES:Ausbildung,Konzert
ATTACH;FMTTYPE=image/png:https://www.mk-heiden.com/wp-content/uploads/Logo-Foerderverein.png
END:VEVENT
END:VCALENDAR