BEGIN:VCALENDAR
VERSION:2.0
PRODID:-//Musikkapelle Heiden - ECPv6.15.20//NONSGML v1.0//EN
CALSCALE:GREGORIAN
METHOD:PUBLISH
X-WR-CALNAME:Musikkapelle Heiden
X-ORIGINAL-URL:https://www.mk-heiden.com
X-WR-CALDESC:Veranstaltungen für Musikkapelle Heiden
REFRESH-INTERVAL;VALUE=DURATION:PT1H
X-Robots-Tag:noindex
X-PUBLISHED-TTL:PT1H
BEGIN:VTIMEZONE
TZID:Europe/Berlin
BEGIN:DAYLIGHT
TZOFFSETFROM:+0100
TZOFFSETTO:+0200
TZNAME:CEST
DTSTART:20220327T010000
END:DAYLIGHT
BEGIN:STANDARD
TZOFFSETFROM:+0200
TZOFFSETTO:+0100
TZNAME:CET
DTSTART:20221030T010000
END:STANDARD
BEGIN:DAYLIGHT
TZOFFSETFROM:+0100
TZOFFSETTO:+0200
TZNAME:CEST
DTSTART:20230326T010000
END:DAYLIGHT
BEGIN:STANDARD
TZOFFSETFROM:+0200
TZOFFSETTO:+0100
TZNAME:CET
DTSTART:20231029T010000
END:STANDARD
BEGIN:DAYLIGHT
TZOFFSETFROM:+0100
TZOFFSETTO:+0200
TZNAME:CEST
DTSTART:20240331T010000
END:DAYLIGHT
BEGIN:STANDARD
TZOFFSETFROM:+0200
TZOFFSETTO:+0100
TZNAME:CET
DTSTART:20241027T010000
END:STANDARD
END:VTIMEZONE
BEGIN:VEVENT
DTSTART;TZID=Europe/Berlin:20230826T193000
DTEND;TZID=Europe/Berlin:20230826T223000
DTSTAMP:20260423T164930
CREATED:20230115T101818Z
LAST-MODIFIED:20230823T173724Z
UID:5909-1693078200-1693089000@www.mk-heiden.com
SUMMARY:TonArt Open Air 2023
DESCRIPTION:Sommer Open Air mit Special Guest\n  \nACHTUNG\, ORTSWECHSEL: Aufgrund der durchwachsenen Wetterprognose wird die TonArt in der Stahlbauhalle der Firma Brüninghoff stattfinden!\n+ + + Neue Location: Firma Brüninghoff\, Stahlbauhalle/Schlosserei\, Industriestr. 14\, 46359 Heiden + + + \n  \n2015 ist schon ein paar Jahre her… wer erinnert sich noch? Damals\, auf dem alten Kirchplatz\, gemeinsam mit Star-Posaunist Zoltan Kiss: Das war die erste TonArt und sie war ein voller Erfolg! \nIn der Zwischenzeit haben wir mit „Picknick Meets Concert“ eine weitere\, unterhaltsame Veranstaltungsreihe geschaffen\, bei Wertungsspielen brilliert und die Pandemie hinter uns gelassen. Doch 2023 ist es wieder Zeit für eine TonArt! Freut euch auf eine beschwingte Open-Air-Sommernacht am Haus der Begegnung mit der Musikkapelle Heiden. Auch dieses Mal haben wir uns hochkarätige Unterstützung für ein besonderes Konzertprogramm organisiert: Die TonArt 2023 bietet eine unterhaltsame Mischung aus konzertanter Blasmusik und der genialen Stimme von Nora Becker.  \nAuf dem Programm stehen moderne Blasmusik mit Ohrwurmpotenzial wie ein neues Arrangement von „Forever Young“ (Alphaville\, Arr. Thiemo Kraas)\, strahlender Orchestersound wie in „Hymn of the Highlands – Dundonnell“ (Philip Sparke)\, jazzige Akzente z.B. mit „Let’s Call the Whole Thing Off“ (George Gershwin) und emotionale Melodien aus Film und Fernsehen. Das 8-köpfige Organisationsteam und viele Unterstützer sorgen dabei für das Rundum-Paket: Neben musikalischen Genüssen wird Familie Rüping von WeinAkzente Heiden erlesene Weine reichen\, während es an unserer Theke leckere Snacks und kühle Getränke geben wird. Moderiert wird der Abend vom erfahrenen Sport- und Radiomoderator Philipp Dienberg. Lasst euch dieses Konzert-Highlight in Heiden nicht entgehen! \n  \nNora Becker\, Foto: Ingo Stahl \nTickets: \nVVK: Bestellungen bis Samstagmittag (26.08.2023\, 12 Uhr) über tickets@mk-heiden.de\nFür Kurzentschlossene wird es vor Ort eine Abendkasse geben! \nPreise (VVK & Abendkasse):\nErwachsene 22 € / 27 €\nJugendliche 12 € / 17 €\n(Die Tickets können sowohl ausgedruckt als auch auf dem Handy – print@home-Option – zum Konzert mitgebracht werden. ) \nKurz und knapp:\n+ Profi-Solistin: Nora Becker wird das Konzert mit ihrer sensationellen Stimme bereichern\n+ Profi-Moderator: durch den Abend führt Philipp Dienberg\n+ vielfältiges Programm: bekannte Pop-Melodien\, eindrucksvolle Blasmusik\, jazziger Sound und fantastischer Gesang\n+ für das leibliche Wohl wird gesorgt: Weine von WeinAkzente Heiden\, Snacks und kühle Getränke\n+ Summer Night Feeling: ein wunderschöner Sommerabend mit der Musikkapelle Heiden und Nora Becker\n+ EINLASS: 18.30 Uhr und BEGINN: 19.30 Uhr \n  \nWir danken unseren Sponsoren!
URL:https://www.mk-heiden.com/event/tonart-2023/
LOCATION:Stahlbauhalle Brüninghoff\, Industriestr. 14\, Heiden\, Nordrhein-Westfalen\, 46359\, Deutschland
CATEGORIES:Konzert
ATTACH;FMTTYPE=image/jpeg:https://www.mk-heiden.com/wp-content/uploads/Plakat_quadratisch.jpg
ORGANIZER;CN="Musikkapelle Heiden e.V.":MAILTO:info@mk-heiden.de
END:VEVENT
END:VCALENDAR